BEGIN:VCALENDAR
VERSION:2.0
PRODID:-//wp-events-plugin.com//7.2.3.1//EN
BEGIN:VEVENT
UID:54@yachts.navantia.es
DTSTART;TZID=Europe/Madrid;VALUE=DATE:20241011
DTEND;TZID=Europe/Madrid;VALUE=DATE:20241013
DTSTAMP:20240813T094910Z
URL:https://yachts.navantia.es/events/https-www-turismoregiondemurcia-es-e
 s-evento-hermosa-fest-en-la-manga-m434411/
SUMMARY:HERMOSA FEST EN LA MANGA
DESCRIPTION:[vc_row][vc_column width="1/2"][vc_column_text]HERMOSA FEST - L
 A MANGA[/vc_column_text][vc_column_text]Hermosa Fest es el festival más b
 uen rollero de la Costa Cálida\, que tendrá lugar los días 11 y 12 de o
 ctubre en La Manga.Este año contará\, como cabeza de cartel\, al granadi
 no grupo indie rock Lory Meyers junto con el resto de artistas ya anunci
 ados: La La Love You\, Sidecars\, Ginebras\, Delaporte\, Boney M\, Taao\,
  Ley Dj\, Carmen 113\, Jordana B\, La Nenu Dj Set\, Querido Diablo.Para co
 mrpar entradas:Las entradas se pueden adquirir en Hermosa Fest En la Manga
  : Web oficial turismo Región de Murcia (turismoregiondemurcia.es) .Para 
 más información\, tlf. + 34 968 14 62 15 [/vc_column_text][/vc_column][
 vc_column width="1/2"][us_image has_ratio="1" align="center" size="mailpoe
 t_newsletter_max" link="%7B%22url%22%3A%22%22%7D" image="34267" ratio="4x3
 "][/vc_column][/vc_row][vc_row height="small" columns="1"][vc_column][us_g
 maps marker_address="37.626468962680285\, -0.7169060845870651 " marker_tex
 t="JTNDaDYlM0VJZ2xlc2lhJTIwU2FudGElMjBNYXJpYSUyMGRlJTIwR3JhY2lhJTNDJTJGaDY
 lM0U=" markers="%5B%7B%22marker_size%22%3A%2230%22%7D%5D" provider="osm"][
 /vc_column][/vc_row][vc_row][vc_column][/vc_column][/vc_row]
ATTACH;FMTTYPE=image/jpeg:https://yachts.navantia.es/wp-content/uploads/20
 24/04/hermosa-fest-1.png
CATEGORIES:eventos
LOCATION:https://www.google.com/maps/place/Museo+de+la+Guerra+Civil/@37.600
 1895,-0.9809066,16z/data=!3m1!4b1!4m6!3m5!1s0xd634187a089036b:0xdc06fbe6c5
 049d67!8m2!3d37.6001895!4d-0.9809066!16s%2Fg%2F12135y7d?entry=ttu
END:VEVENT
BEGIN:VTIMEZONE
TZID:Europe/Madrid
X-LIC-LOCATION:Europe/Madrid
BEGIN:DAYLIGHT
DTSTART:20240331T030000
TZOFFSETFROM:+0100
TZOFFSETTO:+0200
TZNAME:CEST
END:DAYLIGHT
END:VTIMEZONE
END:VCALENDAR