BEGIN:VCALENDAR
VERSION:2.0
PRODID:-//wp-events-plugin.com//7.2.3.1//EN
BEGIN:VEVENT
UID:64@yachts.navantia.es
DTSTART;TZID=Europe/Madrid:20240624T210000
DTEND;TZID=Europe/Madrid:20240921T234500
DTSTAMP:20240528T054209Z
URL:https://yachts.navantia.es/events/el-teatro-bajo-la-luz-de-la-luna-vis
 ita-guiada-nocturna/
SUMMARY:EL TEATRO BAJO LA LUZ DE LA LUNA. Visita guiada nocturna
DESCRIPTION:[vc_row][vc_column width="1/2"][vc_column_text]\nEL TEATRO BAJO
  LA LUZ DE LA LUNA\n[/vc_column_text][vc_column_text]\nEl visitante realiz
 ará una visita nocturna a la más emblemática obra impulsada por Augusto
  en la vieja Carthago Nova.\nEl viaje permite vivir en primera persona\, e
 n un ambiente relajado y con exclusividad\, un recorrido que comienza en e
 l Museo del Teatro Romano de la mano de un guía\, con un reducido grupo d
 e personas\, las claves de la civilización romana. La visita desembocará
  en la joya arqueológica del Teatro Romano bajo la luz de la luna.\nFecha
 s:\n\n\n 	Junio (15 y 22)\n 	Julio (6 y 20)\n 	Agosto ( 10 y 24)\n 	Septie
 mbre ( 7 y 21)\n\nDetalles del tour:\n\n 	Hora: 21:00 pm\n 	Duración: 1 h
 ora y 15 minutos aprox.\n 	Aforo: 25 personas\n 	Precio: 12 euros\n\nLas e
 ntradas individuales se pueden adquirir en Compra Online | Cartagena Puert
 o de Culturas o para grupos a partir de 20 personas realice su reserva tra
 vés de Reserva para grupos | Visita | Cartagena Puerto de Culturas o en e
 l teléfono 968 50 00 93.\n\n[/vc_column_text][us_contacts address="Pl. Ay
 untamiento\, 9\, 30201 Cartagena\, Murcia" phone="+34 968 500 093"][us_btn
  label="Sitio web" link="%7B%22url%22%3A%22https%3A%2F%2Fturismo.cartagena
 .es%2Fdetalle_agenda.asp%3Fid%3D312%22%7D"][/vc_column][vc_column width="1
 /2"][us_image image="34018" has_ratio="1" align="center" link="%7B%22url%2
 2%3A%22%22%7D"][us_separator][us_image image="34021" has_ratio="1" align="
 center" link="%7B%22url%22%3A%22%22%7D"][us_separator][us_image image="340
 17" has_ratio="1" align="center" link="%7B%22url%22%3A%22%22%7D"][/vc_colu
 mn][/vc_row][vc_row height="small"][vc_column][us_gmaps marker_address="37
 .59937572646067\, -0.9838736812884528" marker_text="JTNDaDYlM0V0ZWF0cm8lMj
 Byb21hbm8lM0MlMkZoNiUzRQ==" markers="%5B%7B%22marker_size%22%3A%2230%22%7D
 %5D" provider="osm"][/vc_column][/vc_row][vc_row][vc_column][/vc_column][/
 vc_row]
ATTACH;FMTTYPE=image/jpeg:https://yachts.navantia.es/wp-content/uploads/20
 24/05/evento-5-1.jpg
CATEGORIES:eventos
LOCATION:https://turismo.cartagena.es/detalle_agenda.asp?id=312
END:VEVENT
BEGIN:VTIMEZONE
TZID:Europe/Madrid
X-LIC-LOCATION:Europe/Madrid
BEGIN:DAYLIGHT
DTSTART:20240331T030000
TZOFFSETFROM:+0100
TZOFFSETTO:+0200
TZNAME:CEST
END:DAYLIGHT
END:VTIMEZONE
END:VCALENDAR